BEGIN:VCALENDAR
VERSION:2.0
PRODID:-//Kulturmanufaktur Gerstenberg - ECPv6.0.6.2//NONSGML v1.0//EN
CALSCALE:GREGORIAN
METHOD:PUBLISH
X-ORIGINAL-URL:https://kuma-gb.de
X-WR-CALDESC:Events for Kulturmanufaktur Gerstenberg
REFRESH-INTERVAL;VALUE=DURATION:PT1H
X-Robots-Tag:noindex
X-PUBLISHED-TTL:PT1H
BEGIN:VTIMEZONE
TZID:Europe/Berlin
BEGIN:DAYLIGHT
TZOFFSETFROM:+0100
TZOFFSETTO:+0200
TZNAME:CEST
DTSTART:20260329T010000
END:DAYLIGHT
BEGIN:STANDARD
TZOFFSETFROM:+0200
TZOFFSETTO:+0100
TZNAME:CET
DTSTART:20261025T010000
END:STANDARD
END:VTIMEZONE
BEGIN:VEVENT
DTSTART;TZID=Europe/Berlin:20260421T190000
DTEND;TZID=Europe/Berlin:20260421T203000
DTSTAMP:20260421T143506
CREATED:20260322T111930Z
LAST-MODIFIED:20260322T111930Z
UID:10001573-1776798000-1776803400@kuma-gb.de
SUMMARY:Bal Folk Kurs
DESCRIPTION:Bal Folk ist ein idealer Einstieg in die Welt des Tanzens: eine Mischung aus Spaß\, Musik\, Freude an Bewegung und Geselligkeit.\n\nDie Bal-Folk-Bewegung stammt ursprünglich aus Frankreich\, erfreut sich aber auch im übrigen Europa und quer durch alle Generationen großer Beliebtheit. Viele Tänze können ohne Vorkenntnisse sofort mitgetanzt werden\, und auch die Suche nach einer Tanzpartner:in ist ohne große Formalitäten zu bewältigen. Bei einigen Tänzen findet sowieso alle paar Takte ein Partnerwechsel statt. Auf diese Weise lernt man im Laufe eines Tanzabends beinahe alle anderen Anwesenden kennen.\n\nBei vielen Kreis-\, Paar- und Reihentänzen wie Cercle Circassien\, Walzer\, Mazurka\, Schottisch\, Bourrée\, Hanter-Dro usw. kann ohne Vorkenntnisse rasch mitgetanzt werden. Spannend wird es wenn es darum geht im Paar miteinander zu tanzen. Hier gibt es überraschend feine\, intime\, spaßige und lebendige Spielarten.\n\nIm Kurs wird zu Musik aus der Konserve getanzt. Die Tänze werden in Ruhe angeleitet und vertieft\, bis alle Teilnehmenden mit Vergnügen dabei sein können. Wer kommt\, sollte Extraschuhe zum Tanzen dabeihaben.\n\nDer Kurs wird von Thomas Strauch geleitet. Hinweise und Anregungen sind immer willkommen.
URL:https://kuma-gb.de/event/bal-folk-kurs-48/
LOCATION:Kulturmanufaktur (KUMA)\, Ziegelstraße 28a\, Frankfurt (Oder)\, Brandenburg\, 15230\, Deutschland
CATEGORIES:Tanz,Workshop
ATTACH;FMTTYPE=image/jpeg:https://kuma-gb.de/wp-content/uploads/2025/08/IMG_7398-scaled.jpeg
ORGANIZER;CN="Kulturmanufaktur%20%28KUMA%29":MAILTO:kontakt@kuma-gb.de
END:VEVENT
BEGIN:VEVENT
DTSTART;TZID=Europe/Berlin:20260423T180000
DTEND;TZID=Europe/Berlin:20260423T233000
DTSTAMP:20260421T143506
CREATED:20251002T120802Z
LAST-MODIFIED:20260309T205046Z
UID:10001461-1776967200-1776987000@kuma-gb.de
SUMMARY:SPIELEABEND
DESCRIPTION:Let’s play! Spieleabend in der KUMA – jeden Donnerstag ab 18 Uhr. Spielt\, was Ihr wollt\, bringt Spiele und Freund:innen mit oder trefft hier neue Menschen und Spiele.
URL:https://kuma-gb.de/event/spieleabend-4/2026-04-23/
LOCATION:Kulturmanufaktur (KUMA)\, Ziegelstraße 28a\, Frankfurt (Oder)\, Brandenburg\, 15230\, Deutschland
CATEGORIES:Community
ATTACH;FMTTYPE=image/jpeg:https://kuma-gb.de/wp-content/uploads/2022/02/400831305_896817972029569_6084931231592985635_n.jpg
ORGANIZER;CN="Kulturmanufaktur%20%28KUMA%29":MAILTO:kontakt@kuma-gb.de
END:VEVENT
BEGIN:VEVENT
DTSTART;TZID=Europe/Berlin:20260424T183000
DTEND;TZID=Europe/Berlin:20260424T183000
DTSTAMP:20260421T143506
CREATED:20260411T140845Z
LAST-MODIFIED:20260411T140845Z
UID:10001577-1777055400-1777055400@kuma-gb.de
SUMMARY:Crafting / Bastelnacht
DESCRIPTION:Infos folgen…
URL:https://kuma-gb.de/event/crafting-bastelnacht/
LOCATION:Kulturmanufaktur (KUMA)\, Ziegelstraße 28a\, Frankfurt (Oder)\, Brandenburg\, 15230\, Deutschland
CATEGORIES:Community
ORGANIZER;CN="Kulturmanufaktur%20%28KUMA%29":MAILTO:kontakt@kuma-gb.de
END:VEVENT
BEGIN:VEVENT
DTSTART;TZID=Europe/Berlin:20260426T193000
DTEND;TZID=Europe/Berlin:20260426T220000
DTSTAMP:20260421T143506
CREATED:20251020T111104Z
LAST-MODIFIED:20251020T111104Z
UID:10001506-1777231800-1777240800@kuma-gb.de
SUMMARY:ANDY IRVINE - Best of irish music
DESCRIPTION:ANDY IRVINE ist eine der einflussreichsten Triebkräfte der neueren irischen Folk-Szene und hat sich als Bouzouki- Mandolinen- und Mandolaspieler einen großen Namen gemacht. Er ist einer der großen irischen Sänger\, seine Stimme spiegelt die Seele Irlands. \nEr ist Gründungsmitglied der legendären irischen Gruppen Sweeney’s Men und PLANXTY und hat deren Stil deutlich beeinflusst. Er spielte mit De Danann und Paul Brady\, mit Patrick Street\, Usher’s Island und Mozaik. Er gilt als ideenreicher Arrangeur\, der es versteht\, traditionelles Material auf neue\, frische Art zuzubereiten und ist ein ausgezeichneter Komponist mit ganz besonderen rhythmischen Fähigkeiten. \n\n\n   \n\nMit dem Laden des Videos akzeptieren Sie die Datenschutzerklärung von YouTube.Mehr erfahren \nVideo laden \n YouTube immer entsperren \n \n \n \n\n\nSeine Bouzouki und Mandoline zitieren auch bulgarischen Rhythmus und rumänische Taktfolgen\, schielen nach Mazedonien und Albanien hinüber und unterlegen mit raschen Wechseln seinen sanften\, ausgefeilten Gesang\, der nie die irische Diktion verliert. Im Zeitalter von High-Tech und Materialismus sind seine Konzerte besonders beeindruckend. Seine Lieder sind Geschichten von politisch Verfolgten\, von Emigranten\, von Helden der Arbeiterklasse\, und von seiner Erfahrung als fahrender Sänger\, der fast auf der ganzen Welt gesungen hat. \nAndy Irvine\, mittlerweile über 80 Jahre alt\, ist eine Legende der irischen Folkszene. Er bekam 2018 von RTE-Radio den Folk Award für sein Lebenswerk. \n„Er ist Irlands Woody Guthrie\, mit dem Ohr eines Philosophen und der leidenschaftlichen Stimme eines Propheten. Er ist ein überwältigender Sänger\, der Melodie und Text\, Harmonie und Rhythmus zu einem lebendigen Teppich aus Gegenwart und Vergangenheit webt.“\nSi Khan \nwww.andyirvine.com
URL:https://kuma-gb.de/event/andy-irvine-in-frankfurt-oder/
LOCATION:Kulturmanufaktur (KUMA)\, Ziegelstraße 28a\, Frankfurt (Oder)\, Brandenburg\, 15230\, Deutschland
CATEGORIES:Konzert
ATTACH;FMTTYPE=image/jpeg:https://kuma-gb.de/wp-content/uploads/2022/10/andyirvine-scaled.jpeg
ORGANIZER;CN="Kulturmanufaktur%20%28KUMA%29":MAILTO:kontakt@kuma-gb.de
END:VEVENT
BEGIN:VEVENT
DTSTART;TZID=Europe/Berlin:20260428T190000
DTEND;TZID=Europe/Berlin:20260428T203000
DTSTAMP:20260421T143506
CREATED:20260322T111957Z
LAST-MODIFIED:20260322T111957Z
UID:10001574-1777402800-1777408200@kuma-gb.de
SUMMARY:Bal Folk Kurs
DESCRIPTION:Bal Folk ist ein idealer Einstieg in die Welt des Tanzens: eine Mischung aus Spaß\, Musik\, Freude an Bewegung und Geselligkeit.\n\nDie Bal-Folk-Bewegung stammt ursprünglich aus Frankreich\, erfreut sich aber auch im übrigen Europa und quer durch alle Generationen großer Beliebtheit. Viele Tänze können ohne Vorkenntnisse sofort mitgetanzt werden\, und auch die Suche nach einer Tanzpartner:in ist ohne große Formalitäten zu bewältigen. Bei einigen Tänzen findet sowieso alle paar Takte ein Partnerwechsel statt. Auf diese Weise lernt man im Laufe eines Tanzabends beinahe alle anderen Anwesenden kennen.\n\nBei vielen Kreis-\, Paar- und Reihentänzen wie Cercle Circassien\, Walzer\, Mazurka\, Schottisch\, Bourrée\, Hanter-Dro usw. kann ohne Vorkenntnisse rasch mitgetanzt werden. Spannend wird es wenn es darum geht im Paar miteinander zu tanzen. Hier gibt es überraschend feine\, intime\, spaßige und lebendige Spielarten.\n\nIm Kurs wird zu Musik aus der Konserve getanzt. Die Tänze werden in Ruhe angeleitet und vertieft\, bis alle Teilnehmenden mit Vergnügen dabei sein können. Wer kommt\, sollte Extraschuhe zum Tanzen dabeihaben.\n\nDer Kurs wird von Thomas Strauch geleitet. Hinweise und Anregungen sind immer willkommen.
URL:https://kuma-gb.de/event/bal-folk-kurs-49/
LOCATION:Kulturmanufaktur (KUMA)\, Ziegelstraße 28a\, Frankfurt (Oder)\, Brandenburg\, 15230\, Deutschland
CATEGORIES:Tanz,Workshop
ATTACH;FMTTYPE=image/jpeg:https://kuma-gb.de/wp-content/uploads/2025/08/IMG_7398-scaled.jpeg
ORGANIZER;CN="Kulturmanufaktur%20%28KUMA%29":MAILTO:kontakt@kuma-gb.de
END:VEVENT
BEGIN:VEVENT
DTSTART;TZID=Europe/Berlin:20260430T180000
DTEND;TZID=Europe/Berlin:20260430T233000
DTSTAMP:20260421T143506
CREATED:20251002T120802Z
LAST-MODIFIED:20260309T205046Z
UID:10001462-1777572000-1777591800@kuma-gb.de
SUMMARY:SPIELEABEND
DESCRIPTION:Let’s play! Spieleabend in der KUMA – jeden Donnerstag ab 18 Uhr. Spielt\, was Ihr wollt\, bringt Spiele und Freund:innen mit oder trefft hier neue Menschen und Spiele.
URL:https://kuma-gb.de/event/spieleabend-4/2026-04-30/
LOCATION:Kulturmanufaktur (KUMA)\, Ziegelstraße 28a\, Frankfurt (Oder)\, Brandenburg\, 15230\, Deutschland
CATEGORIES:Community
ATTACH;FMTTYPE=image/jpeg:https://kuma-gb.de/wp-content/uploads/2022/02/400831305_896817972029569_6084931231592985635_n.jpg
ORGANIZER;CN="Kulturmanufaktur%20%28KUMA%29":MAILTO:kontakt@kuma-gb.de
END:VEVENT
END:VCALENDAR